Workbook
Name SupplierList: Lists!$A$2:$A$50
Name CategoryList: Lists!$B$2:$B$50
Name SupplierFilter: Lists!$G$2:$G$51
Name CategoryFilter: Lists!$H$2:$H$51

Sheet Dashboard
B2: Procurement KPI Dashboard
B3: Free template from NonStopExcel · nonstopexcel.com
B5: FILTERS
B6: Supplier | C6: All | D6: ← pick from the list | G6: Yellow cells are settings: change the filters on the left and the targets in the Target column.
B7: Category | C7: All | G7: Hover over a KPI name to see how it's calculated.
B8: PO date from | C8: 45931
B9: PO date to | C9: 46295
B11: KPI | C11: Value | D11: Target | E11: Status
B12: PO Cycle Time (days) | C12: =IFERROR(AVERAGEIFS('PO Data'!$S$2:$S$1001,'PO Data'!$B$2:$B$1001,IF($C$6="All","*",$C$6),'PO Data'!$C$2:$C$1001,IF($C$7="All","*",$C$7),'PO Data'!$E$2:$E$1001,">="&$C$8,'PO Data'!$E$2:$E$1001,"<="&$C$9),"") | D12: 5 | E12: =IF(C12="","",IF(C12<=D12,"On target","Off target"))
B13: On-Time Delivery Rate | C13: =IFERROR(SUMIFS('PO Data'!$U$2:$U$1001,'PO Data'!$B$2:$B$1001,IF($C$6="All","*",$C$6),'PO Data'!$C$2:$C$1001,IF($C$7="All","*",$C$7),'PO Data'!$E$2:$E$1001,">="&$C$8,'PO Data'!$E$2:$E$1001,"<="&$C$9)/COUNTIFS('PO Data'!$B$2:$B$1001,IF($C$6="All","*",$C$6),'PO Data'!$C$2:$C$1001,IF($C$7="All","*",$C$7),'PO Data'!$E$2:$E$1001,">="&$C$8,'PO Data'!$E$2:$E$1001,"<="&$C$9,'PO Data'!$U$2:$U$1001,">=0"),"") | D13: 0.95 | E13: =IF(C13="","",IF(C13>=D13,"On target","Off target"))
B14: Spend Under Management | C14: =IFERROR(SUMIFS('PO Data'!$P$2:$P$1001,'PO Data'!$B$2:$B$1001,IF($C$6="All","*",$C$6),'PO Data'!$C$2:$C$1001,IF($C$7="All","*",$C$7),'PO Data'!$E$2:$E$1001,">="&$C$8,'PO Data'!$E$2:$E$1001,"<="&$C$9,'PO Data'!$N$2:$N$1001,"Y")/SUMIFS('PO Data'!$P$2:$P$1001,'PO Data'!$B$2:$B$1001,IF($C$6="All","*",$C$6),'PO Data'!$C$2:$C$1001,IF($C$7="All","*",$C$7),'PO Data'!$E$2:$E$1001,">="&$C$8,'PO Data'!$E$2:$E$1001,"<="&$C$9),"") | D14: 0.85 | E14: =IF(C14="","",IF(C14>=D14,"On target","Off target"))
B15: Supplier Lead Time (days) | C15: =IFERROR(AVERAGEIFS('PO Data'!$T$2:$T$1001,'PO Data'!$B$2:$B$1001,IF($C$6="All","*",$C$6),'PO Data'!$C$2:$C$1001,IF($C$7="All","*",$C$7),'PO Data'!$E$2:$E$1001,">="&$C$8,'PO Data'!$E$2:$E$1001,"<="&$C$9,'PO Data'!$T$2:$T$1001,">=0"),"") | D15: 12 | E15: =IF(C15="","",IF(C15<=D15,"On target","Off target"))
B16: Cost Savings | C16: =SUMIFS('PO Data'!$R$2:$R$1001,'PO Data'!$B$2:$B$1001,IF($C$6="All","*",$C$6),'PO Data'!$C$2:$C$1001,IF($C$7="All","*",$C$7),'PO Data'!$E$2:$E$1001,">="&$C$8,'PO Data'!$E$2:$E$1001,"<="&$C$9) | D16: –
B17: Savings vs Baseline | C17: =IFERROR(SUMIFS('PO Data'!$R$2:$R$1001,'PO Data'!$B$2:$B$1001,IF($C$6="All","*",$C$6),'PO Data'!$C$2:$C$1001,IF($C$7="All","*",$C$7),'PO Data'!$E$2:$E$1001,">="&$C$8,'PO Data'!$E$2:$E$1001,"<="&$C$9)/SUMIFS('PO Data'!$Q$2:$Q$1001,'PO Data'!$B$2:$B$1001,IF($C$6="All","*",$C$6),'PO Data'!$C$2:$C$1001,IF($C$7="All","*",$C$7),'PO Data'!$E$2:$E$1001,">="&$C$8,'PO Data'!$E$2:$E$1001,"<="&$C$9),"") | D17: 0.05 | E17: =IF(C17="","",IF(C17>=D17,"On target","Off target"))
B18: Compliance Rate | C18: =IFERROR(COUNTIFS('PO Data'!$B$2:$B$1001,IF($C$6="All","*",$C$6),'PO Data'!$C$2:$C$1001,IF($C$7="All","*",$C$7),'PO Data'!$E$2:$E$1001,">="&$C$8,'PO Data'!$E$2:$E$1001,"<="&$C$9,'PO Data'!$M$2:$M$1001,"Y")/COUNTIFS('PO Data'!$B$2:$B$1001,IF($C$6="All","*",$C$6),'PO Data'!$C$2:$C$1001,IF($C$7="All","*",$C$7),'PO Data'!$E$2:$E$1001,">="&$C$8,'PO Data'!$E$2:$E$1001,"<="&$C$9),"") | D18: 0.9 | E18: =IF(C18="","",IF(C18>=D18,"On target","Off target"))
B19: Supplier Defect Rate | C19: =IFERROR(SUMIFS('PO Data'!$J$2:$J$1001,'PO Data'!$B$2:$B$1001,IF($C$6="All","*",$C$6),'PO Data'!$C$2:$C$1001,IF($C$7="All","*",$C$7),'PO Data'!$E$2:$E$1001,">="&$C$8,'PO Data'!$E$2:$E$1001,"<="&$C$9)/SUMIFS('PO Data'!$I$2:$I$1001,'PO Data'!$B$2:$B$1001,IF($C$6="All","*",$C$6),'PO Data'!$C$2:$C$1001,IF($C$7="All","*",$C$7),'PO Data'!$E$2:$E$1001,">="&$C$8,'PO Data'!$E$2:$E$1001,"<="&$C$9),"") | D19: 0.02 | E19: =IF(C19="","",IF(C19<=D19,"On target","Off target"))
B20: Emergency Purchase Ratio | C20: =IFERROR(COUNTIFS('PO Data'!$B$2:$B$1001,IF($C$6="All","*",$C$6),'PO Data'!$C$2:$C$1001,IF($C$7="All","*",$C$7),'PO Data'!$E$2:$E$1001,">="&$C$8,'PO Data'!$E$2:$E$1001,"<="&$C$9,'PO Data'!$O$2:$O$1001,"Y")/COUNTIFS('PO Data'!$B$2:$B$1001,IF($C$6="All","*",$C$6),'PO Data'!$C$2:$C$1001,IF($C$7="All","*",$C$7),'PO Data'!$E$2:$E$1001,">="&$C$8,'PO Data'!$E$2:$E$1001,"<="&$C$9),"") | D20: 0.1 | E20: =IF(C20="","",IF(C20<=D20,"On target","Off target"))
B21: POs in selection | C21: =COUNTIFS('PO Data'!$B$2:$B$1001,IF($C$6="All","*",$C$6),'PO Data'!$C$2:$C$1001,IF($C$7="All","*",$C$7),'PO Data'!$E$2:$E$1001,">="&$C$8,'PO Data'!$E$2:$E$1001,"<="&$C$9)
B22: Spend in selection | C22: =SUMIFS('PO Data'!$P$2:$P$1001,'PO Data'!$B$2:$B$1001,IF($C$6="All","*",$C$6),'PO Data'!$C$2:$C$1001,IF($C$7="All","*",$C$7),'PO Data'!$E$2:$E$1001,">="&$C$8,'PO Data'!$E$2:$E$1001,"<="&$C$9)
B24: SUPPLIER SCORECARD
B25: Supplier | C25: POs | D25: Spend | E25: On-time % | G25: Lead time (days) | H25: Defect % | I25: Emergency % | J25: Compliance %
B26: =IF(INDEX(SupplierList,1)="","",INDEX(SupplierList,1)) | C26: =IF($B26="","",COUNTIFS('PO Data'!$B$2:$B$1001,$B26,'PO Data'!$C$2:$C$1001,IF($C$7="All","*",$C$7),'PO Data'!$E$2:$E$1001,">="&$C$8,'PO Data'!$E$2:$E$1001,"<="&$C$9)) | D26: =IF($B26="","",SUMIFS('PO Data'!$P$2:$P$1001,'PO Data'!$B$2:$B$1001,$B26,'PO Data'!$C$2:$C$1001,IF($C$7="All","*",$C$7),'PO Data'!$E$2:$E$1001,">="&$C$8,'PO Data'!$E$2:$E$1001,"<="&$C$9)) | E26: =IF($B26="","",IFERROR(SUMIFS('PO Data'!$U$2:$U$1001,'PO Data'!$B$2:$B$1001,$B26,'PO Data'!$C$2:$C$1001,IF($C$7="All","*",$C$7),'PO Data'!$E$2:$E$1001,">="&$C$8,'PO Data'!$E$2:$E$1001,"<="&$C$9)/COUNTIFS('PO Data'!$B$2:$B$1001,$B26,'PO Data'!$C$2:$C$1001,IF($C$7="All","*",$C$7),'PO Data'!$E$2:$E$1001,">="&$C$8,'PO Data'!$E$2:$E$1001,"<="&$C$9,'PO Data'!$U$2:$U$1001,">=0"),"")) | G26: =IF($B26="","",IFERROR(AVERAGEIFS('PO Data'!$T$2:$T$1001,'PO Data'!$B$2:$B$1001,$B26,'PO Data'!$C$2:$C$1001,IF($C$7="All","*",$C$7),'PO Data'!$E$2:$E$1001,">="&$C$8,'PO Data'!$E$2:$E$1001,"<="&$C$9,'PO Data'!$T$2:$T$1001,">=0"),"")) | H26: =IF($B26="","",IFERROR(SUMIFS('PO Data'!$J$2:$J$1001,'PO Data'!$B$2:$B$1001,$B26,'PO Data'!$C$2:$C$1001,IF($C$7="All","*",$C$7),'PO Data'!$E$2:$E$1001,">="&$C$8,'PO Data'!$E$2:$E$1001,"<="&$C$9)/SUMIFS('PO Data'!$I$2:$I$1001,'PO Data'!$B$2:$B$1001,$B26,'PO Data'!$C$2:$C$1001,IF($C$7="All","*",$C$7),'PO Data'!$E$2:$E$1001,">="&$C$8,'PO Data'!$E$2:$E$1001,"<="&$C$9),"")) | I26: =IF($B26="","",IFERROR(COUNTIFS('PO Data'!$B$2:$B$1001,$B26,'PO Data'!$C$2:$C$1001,IF($C$7="All","*",$C$7),'PO Data'!$E$2:$E$1001,">="&$C$8,'PO Data'!$E$2:$E$1001,"<="&$C$9,'PO Data'!$O$2:$O$1001,"Y")/COUNTIFS('PO Data'!$B$2:$B$1001,$B26,'PO Data'!$C$2:$C$1001,IF($C$7="All","*",$C$7),'PO Data'!$E$2:$E$1001,">="&$C$8,'PO Data'!$E$2:$E$1001,"<="&$C$9),"")) | J26: =IF($B26="","",IFERROR(COUNTIFS('PO Data'!$B$2:$B$1001,$B26,'PO Data'!$C$2:$C$1001,IF($C$7="All","*",$C$7),'PO Data'!$E$2:$E$1001,">="&$C$8,'PO Data'!$E$2:$E$1001,"<="&$C$9,'PO Data'!$M$2:$M$1001,"Y")/COUNTIFS('PO Data'!$B$2:$B$1001,$B26,'PO Data'!$C$2:$C$1001,IF($C$7="All","*",$C$7),'PO Data'!$E$2:$E$1001,">="&$C$8,'PO Data'!$E$2:$E$1001,"<="&$C$9),""))
B27: =IF(INDEX(SupplierList,2)="","",INDEX(SupplierList,2)) | C27: =IF($B27="","",COUNTIFS('PO Data'!$B$2:$B$1001,$B27,'PO Data'!$C$2:$C$1001,IF($C$7="All","*",$C$7),'PO Data'!$E$2:$E$1001,">="&$C$8,'PO Data'!$E$2:$E$1001,"<="&$C$9)) | D27: =IF($B27="","",SUMIFS('PO Data'!$P$2:$P$1001,'PO Data'!$B$2:$B$1001,$B27,'PO Data'!$C$2:$C$1001,IF($C$7="All","*",$C$7),'PO Data'!$E$2:$E$1001,">="&$C$8,'PO Data'!$E$2:$E$1001,"<="&$C$9)) | E27: =IF($B27="","",IFERROR(SUMIFS('PO Data'!$U$2:$U$1001,'PO Data'!$B$2:$B$1001,$B27,'PO Data'!$C$2:$C$1001,IF($C$7="All","*",$C$7),'PO Data'!$E$2:$E$1001,">="&$C$8,'PO Data'!$E$2:$E$1001,"<="&$C$9)/COUNTIFS('PO Data'!$B$2:$B$1001,$B27,'PO Data'!$C$2:$C$1001,IF($C$7="All","*",$C$7),'PO Data'!$E$2:$E$1001,">="&$C$8,'PO Data'!$E$2:$E$1001,"<="&$C$9,'PO Data'!$U$2:$U$1001,">=0"),"")) | G27: =IF($B27="","",IFERROR(AVERAGEIFS('PO Data'!$T$2:$T$1001,'PO Data'!$B$2:$B$1001,$B27,'PO Data'!$C$2:$C$1001,IF($C$7="All","*",$C$7),'PO Data'!$E$2:$E$1001,">="&$C$8,'PO Data'!$E$2:$E$1001,"<="&$C$9,'PO Data'!$T$2:$T$1001,">=0"),"")) | H27: =IF($B27="","",IFERROR(SUMIFS('PO Data'!$J$2:$J$1001,'PO Data'!$B$2:$B$1001,$B27,'PO Data'!$C$2:$C$1001,IF($C$7="All","*",$C$7),'PO Data'!$E$2:$E$1001,">="&$C$8,'PO Data'!$E$2:$E$1001,"<="&$C$9)/SUMIFS('PO Data'!$I$2:$I$1001,'PO Data'!$B$2:$B$1001,$B27,'PO Data'!$C$2:$C$1001,IF($C$7="All","*",$C$7),'PO Data'!$E$2:$E$1001,">="&$C$8,'PO Data'!$E$2:$E$1001,"<="&$C$9),"")) | I27: =IF($B27="","",IFERROR(COUNTIFS('PO Data'!$B$2:$B$1001,$B27,'PO Data'!$C$2:$C$1001,IF($C$7="All","*",$C$7),'PO Data'!$E$2:$E$1001,">="&$C$8,'PO Data'!$E$2:$E$1001,"<="&$C$9,'PO Data'!$O$2:$O$1001,"Y")/COUNTIFS('PO Data'!$B$2:$B$1001,$B27,'PO Data'!$C$2:$C$1001,IF($C$7="All","*",$C$7),'PO Data'!$E$2:$E$1001,">="&$C$8,'PO Data'!$E$2:$E$1001,"<="&$C$9),"")) | J27: =IF($B27="","",IFERROR(COUNTIFS('PO Data'!$B$2:$B$1001,$B27,'PO Data'!$C$2:$C$1001,IF($C$7="All","*",$C$7),'PO Data'!$E$2:$E$1001,">="&$C$8,'PO Data'!$E$2:$E$1001,"<="&$C$9,'PO Data'!$M$2:$M$1001,"Y")/COUNTIFS('PO Data'!$B$2:$B$1001,$B27,'PO Data'!$C$2:$C$1001,IF($C$7="All","*",$C$7),'PO Data'!$E$2:$E$1001,">="&$C$8,'PO Data'!$E$2:$E$1001,"<="&$C$9),""))
B28: =IF(INDEX(SupplierList,3)="","",INDEX(SupplierList,3)) | C28: =IF($B28="","",COUNTIFS('PO Data'!$B$2:$B$1001,$B28,'PO Data'!$C$2:$C$1001,IF($C$7="All","*",$C$7),'PO Data'!$E$2:$E$1001,">="&$C$8,'PO Data'!$E$2:$E$1001,"<="&$C$9)) | D28: =IF($B28="","",SUMIFS('PO Data'!$P$2:$P$1001,'PO Data'!$B$2:$B$1001,$B28,'PO Data'!$C$2:$C$1001,IF($C$7="All","*",$C$7),'PO Data'!$E$2:$E$1001,">="&$C$8,'PO Data'!$E$2:$E$1001,"<="&$C$9)) | E28: =IF($B28="","",IFERROR(SUMIFS('PO Data'!$U$2:$U$1001,'PO Data'!$B$2:$B$1001,$B28,'PO Data'!$C$2:$C$1001,IF($C$7="All","*",$C$7),'PO Data'!$E$2:$E$1001,">="&$C$8,'PO Data'!$E$2:$E$1001,"<="&$C$9)/COUNTIFS('PO Data'!$B$2:$B$1001,$B28,'PO Data'!$C$2:$C$1001,IF($C$7="All","*",$C$7),'PO Data'!$E$2:$E$1001,">="&$C$8,'PO Data'!$E$2:$E$1001,"<="&$C$9,'PO Data'!$U$2:$U$1001,">=0"),"")) | G28: =IF($B28="","",IFERROR(AVERAGEIFS('PO Data'!$T$2:$T$1001,'PO Data'!$B$2:$B$1001,$B28,'PO Data'!$C$2:$C$1001,IF($C$7="All","*",$C$7),'PO Data'!$E$2:$E$1001,">="&$C$8,'PO Data'!$E$2:$E$1001,"<="&$C$9,'PO Data'!$T$2:$T$1001,">=0"),"")) | H28: =IF($B28="","",IFERROR(SUMIFS('PO Data'!$J$2:$J$1001,'PO Data'!$B$2:$B$1001,$B28,'PO Data'!$C$2:$C$1001,IF($C$7="All","*",$C$7),'PO Data'!$E$2:$E$1001,">="&$C$8,'PO Data'!$E$2:$E$1001,"<="&$C$9)/SUMIFS('PO Data'!$I$2:$I$1001,'PO Data'!$B$2:$B$1001,$B28,'PO Data'!$C$2:$C$1001,IF($C$7="All","*",$C$7),'PO Data'!$E$2:$E$1001,">="&$C$8,'PO Data'!$E$2:$E$1001,"<="&$C$9),"")) | I28: =IF($B28="","",IFERROR(COUNTIFS('PO Data'!$B$2:$B$1001,$B28,'PO Data'!$C$2:$C$1001,IF($C$7="All","*",$C$7),'PO Data'!$E$2:$E$1001,">="&$C$8,'PO Data'!$E$2:$E$1001,"<="&$C$9,'PO Data'!$O$2:$O$1001,"Y")/COUNTIFS('PO Data'!$B$2:$B$1001,$B28,'PO Data'!$C$2:$C$1001,IF($C$7="All","*",$C$7),'PO Data'!$E$2:$E$1001,">="&$C$8,'PO Data'!$E$2:$E$1001,"<="&$C$9),"")) | J28: =IF($B28="","",IFERROR(COUNTIFS('PO Data'!$B$2:$B$1001,$B28,'PO Data'!$C$2:$C$1001,IF($C$7="All","*",$C$7),'PO Data'!$E$2:$E$1001,">="&$C$8,'PO Data'!$E$2:$E$1001,"<="&$C$9,'PO Data'!$M$2:$M$1001,"Y")/COUNTIFS('PO Data'!$B$2:$B$1001,$B28,'PO Data'!$C$2:$C$1001,IF($C$7="All","*",$C$7),'PO Data'!$E$2:$E$1001,">="&$C$8,'PO Data'!$E$2:$E$1001,"<="&$C$9),""))
B29: =IF(INDEX(SupplierList,4)="","",INDEX(SupplierList,4)) | C29: =IF($B29="","",COUNTIFS('PO Data'!$B$2:$B$1001,$B29,'PO Data'!$C$2:$C$1001,IF($C$7="All","*",$C$7),'PO Data'!$E$2:$E$1001,">="&$C$8,'PO Data'!$E$2:$E$1001,"<="&$C$9)) | D29: =IF($B29="","",SUMIFS('PO Data'!$P$2:$P$1001,'PO Data'!$B$2:$B$1001,$B29,'PO Data'!$C$2:$C$1001,IF($C$7="All","*",$C$7),'PO Data'!$E$2:$E$1001,">="&$C$8,'PO Data'!$E$2:$E$1001,"<="&$C$9)) | E29: =IF($B29="","",IFERROR(SUMIFS('PO Data'!$U$2:$U$1001,'PO Data'!$B$2:$B$1001,$B29,'PO Data'!$C$2:$C$1001,IF($C$7="All","*",$C$7),'PO Data'!$E$2:$E$1001,">="&$C$8,'PO Data'!$E$2:$E$1001,"<="&$C$9)/COUNTIFS('PO Data'!$B$2:$B$1001,$B29,'PO Data'!$C$2:$C$1001,IF($C$7="All","*",$C$7),'PO Data'!$E$2:$E$1001,">="&$C$8,'PO Data'!$E$2:$E$1001,"<="&$C$9,'PO Data'!$U$2:$U$1001,">=0"),"")) | G29: =IF($B29="","",IFERROR(AVERAGEIFS('PO Data'!$T$2:$T$1001,'PO Data'!$B$2:$B$1001,$B29,'PO Data'!$C$2:$C$1001,IF($C$7="All","*",$C$7),'PO Data'!$E$2:$E$1001,">="&$C$8,'PO Data'!$E$2:$E$1001,"<="&$C$9,'PO Data'!$T$2:$T$1001,">=0"),"")) | H29: =IF($B29="","",IFERROR(SUMIFS('PO Data'!$J$2:$J$1001,'PO Data'!$B$2:$B$1001,$B29,'PO Data'!$C$2:$C$1001,IF($C$7="All","*",$C$7),'PO Data'!$E$2:$E$1001,">="&$C$8,'PO Data'!$E$2:$E$1001,"<="&$C$9)/SUMIFS('PO Data'!$I$2:$I$1001,'PO Data'!$B$2:$B$1001,$B29,'PO Data'!$C$2:$C$1001,IF($C$7="All","*",$C$7),'PO Data'!$E$2:$E$1001,">="&$C$8,'PO Data'!$E$2:$E$1001,"<="&$C$9),"")) | I29: =IF($B29="","",IFERROR(COUNTIFS('PO Data'!$B$2:$B$1001,$B29,'PO Data'!$C$2:$C$1001,IF($C$7="All","*",$C$7),'PO Data'!$E$2:$E$1001,">="&$C$8,'PO Data'!$E$2:$E$1001,"<="&$C$9,'PO Data'!$O$2:$O$1001,"Y")/COUNTIFS('PO Data'!$B$2:$B$1001,$B29,'PO Data'!$C$2:$C$1001,IF($C$7="All","*",$C$7),'PO Data'!$E$2:$E$1001,">="&$C$8,'PO Data'!$E$2:$E$1001,"<="&$C$9),"")) | J29: =IF($B29="","",IFERROR(COUNTIFS('PO Data'!$B$2:$B$1001,$B29,'PO Data'!$C$2:$C$1001,IF($C$7="All","*",$C$7),'PO Data'!$E$2:$E$1001,">="&$C$8,'PO Data'!$E$2:$E$1001,"<="&$C$9,'PO Data'!$M$2:$M$1001,"Y")/COUNTIFS('PO Data'!$B$2:$B$1001,$B29,'PO Data'!$C$2:$C$1001,IF($C$7="All","*",$C$7),'PO Data'!$E$2:$E$1001,">="&$C$8,'PO Data'!$E$2:$E$1001,"<="&$C$9),""))
B30: =IF(INDEX(SupplierList,5)="","",INDEX(SupplierList,5)) | C30: =IF($B30="","",COUNTIFS('PO Data'!$B$2:$B$1001,$B30,'PO Data'!$C$2:$C$1001,IF($C$7="All","*",$C$7),'PO Data'!$E$2:$E$1001,">="&$C$8,'PO Data'!$E$2:$E$1001,"<="&$C$9)) | D30: =IF($B30="","",SUMIFS('PO Data'!$P$2:$P$1001,'PO Data'!$B$2:$B$1001,$B30,'PO Data'!$C$2:$C$1001,IF($C$7="All","*",$C$7),'PO Data'!$E$2:$E$1001,">="&$C$8,'PO Data'!$E$2:$E$1001,"<="&$C$9)) | E30: =IF($B30="","",IFERROR(SUMIFS('PO Data'!$U$2:$U$1001,'PO Data'!$B$2:$B$1001,$B30,'PO Data'!$C$2:$C$1001,IF($C$7="All","*",$C$7),'PO Data'!$E$2:$E$1001,">="&$C$8,'PO Data'!$E$2:$E$1001,"<="&$C$9)/COUNTIFS('PO Data'!$B$2:$B$1001,$B30,'PO Data'!$C$2:$C$1001,IF($C$7="All","*",$C$7),'PO Data'!$E$2:$E$1001,">="&$C$8,'PO Data'!$E$2:$E$1001,"<="&$C$9,'PO Data'!$U$2:$U$1001,">=0"),"")) | G30: =IF($B30="","",IFERROR(AVERAGEIFS('PO Data'!$T$2:$T$1001,'PO Data'!$B$2:$B$1001,$B30,'PO Data'!$C$2:$C$1001,IF($C$7="All","*",$C$7),'PO Data'!$E$2:$E$1001,">="&$C$8,'PO Data'!$E$2:$E$1001,"<="&$C$9,'PO Data'!$T$2:$T$1001,">=0"),"")) | H30: =IF($B30="","",IFERROR(SUMIFS('PO Data'!$J$2:$J$1001,'PO Data'!$B$2:$B$1001,$B30,'PO Data'!$C$2:$C$1001,IF($C$7="All","*",$C$7),'PO Data'!$E$2:$E$1001,">="&$C$8,'PO Data'!$E$2:$E$1001,"<="&$C$9)/SUMIFS('PO Data'!$I$2:$I$1001,'PO Data'!$B$2:$B$1001,$B30,'PO Data'!$C$2:$C$1001,IF($C$7="All","*",$C$7),'PO Data'!$E$2:$E$1001,">="&$C$8,'PO Data'!$E$2:$E$1001,"<="&$C$9),"")) | I30: =IF($B30="","",IFERROR(COUNTIFS('PO Data'!$B$2:$B$1001,$B30,'PO Data'!$C$2:$C$1001,IF($C$7="All","*",$C$7),'PO Data'!$E$2:$E$1001,">="&$C$8,'PO Data'!$E$2:$E$1001,"<="&$C$9,'PO Data'!$O$2:$O$1001,"Y")/COUNTIFS('PO Data'!$B$2:$B$1001,$B30,'PO Data'!$C$2:$C$1001,IF($C$7="All","*",$C$7),'PO Data'!$E$2:$E$1001,">="&$C$8,'PO Data'!$E$2:$E$1001,"<="&$C$9),"")) | J30: =IF($B30="","",IFERROR(COUNTIFS('PO Data'!$B$2:$B$1001,$B30,'PO Data'!$C$2:$C$1001,IF($C$7="All","*",$C$7),'PO Data'!$E$2:$E$1001,">="&$C$8,'PO Data'!$E$2:$E$1001,"<="&$C$9,'PO Data'!$M$2:$M$1001,"Y")/COUNTIFS('PO Data'!$B$2:$B$1001,$B30,'PO Data'!$C$2:$C$1001,IF($C$7="All","*",$C$7),'PO Data'!$E$2:$E$1001,">="&$C$8,'PO Data'!$E$2:$E$1001,"<="&$C$9),""))
B31: =IF(INDEX(SupplierList,6)="","",INDEX(SupplierList,6)) | C31: =IF($B31="","",COUNTIFS('PO Data'!$B$2:$B$1001,$B31,'PO Data'!$C$2:$C$1001,IF($C$7="All","*",$C$7),'PO Data'!$E$2:$E$1001,">="&$C$8,'PO Data'!$E$2:$E$1001,"<="&$C$9)) | D31: =IF($B31="","",SUMIFS('PO Data'!$P$2:$P$1001,'PO Data'!$B$2:$B$1001,$B31,'PO Data'!$C$2:$C$1001,IF($C$7="All","*",$C$7),'PO Data'!$E$2:$E$1001,">="&$C$8,'PO Data'!$E$2:$E$1001,"<="&$C$9)) | E31: =IF($B31="","",IFERROR(SUMIFS('PO Data'!$U$2:$U$1001,'PO Data'!$B$2:$B$1001,$B31,'PO Data'!$C$2:$C$1001,IF($C$7="All","*",$C$7),'PO Data'!$E$2:$E$1001,">="&$C$8,'PO Data'!$E$2:$E$1001,"<="&$C$9)/COUNTIFS('PO Data'!$B$2:$B$1001,$B31,'PO Data'!$C$2:$C$1001,IF($C$7="All","*",$C$7),'PO Data'!$E$2:$E$1001,">="&$C$8,'PO Data'!$E$2:$E$1001,"<="&$C$9,'PO Data'!$U$2:$U$1001,">=0"),"")) | G31: =IF($B31="","",IFERROR(AVERAGEIFS('PO Data'!$T$2:$T$1001,'PO Data'!$B$2:$B$1001,$B31,'PO Data'!$C$2:$C$1001,IF($C$7="All","*",$C$7),'PO Data'!$E$2:$E$1001,">="&$C$8,'PO Data'!$E$2:$E$1001,"<="&$C$9,'PO Data'!$T$2:$T$1001,">=0"),"")) | H31: =IF($B31="","",IFERROR(SUMIFS('PO Data'!$J$2:$J$1001,'PO Data'!$B$2:$B$1001,$B31,'PO Data'!$C$2:$C$1001,IF($C$7="All","*",$C$7),'PO Data'!$E$2:$E$1001,">="&$C$8,'PO Data'!$E$2:$E$1001,"<="&$C$9)/SUMIFS('PO Data'!$I$2:$I$1001,'PO Data'!$B$2:$B$1001,$B31,'PO Data'!$C$2:$C$1001,IF($C$7="All","*",$C$7),'PO Data'!$E$2:$E$1001,">="&$C$8,'PO Data'!$E$2:$E$1001,"<="&$C$9),"")) | I31: =IF($B31="","",IFERROR(COUNTIFS('PO Data'!$B$2:$B$1001,$B31,'PO Data'!$C$2:$C$1001,IF($C$7="All","*",$C$7),'PO Data'!$E$2:$E$1001,">="&$C$8,'PO Data'!$E$2:$E$1001,"<="&$C$9,'PO Data'!$O$2:$O$1001,"Y")/COUNTIFS('PO Data'!$B$2:$B$1001,$B31,'PO Data'!$C$2:$C$1001,IF($C$7="All","*",$C$7),'PO Data'!$E$2:$E$1001,">="&$C$8,'PO Data'!$E$2:$E$1001,"<="&$C$9),"")) | J31: =IF($B31="","",IFERROR(COUNTIFS('PO Data'!$B$2:$B$1001,$B31,'PO Data'!$C$2:$C$1001,IF($C$7="All","*",$C$7),'PO Data'!$E$2:$E$1001,">="&$C$8,'PO Data'!$E$2:$E$1001,"<="&$C$9,'PO Data'!$M$2:$M$1001,"Y")/COUNTIFS('PO Data'!$B$2:$B$1001,$B31,'PO Data'!$C$2:$C$1001,IF($C$7="All","*",$C$7),'PO Data'!$E$2:$E$1001,">="&$C$8,'PO Data'!$E$2:$E$1001,"<="&$C$9),""))
B32: =IF(INDEX(SupplierList,7)="","",INDEX(SupplierList,7)) | C32: =IF($B32="","",COUNTIFS('PO Data'!$B$2:$B$1001,$B32,'PO Data'!$C$2:$C$1001,IF($C$7="All","*",$C$7),'PO Data'!$E$2:$E$1001,">="&$C$8,'PO Data'!$E$2:$E$1001,"<="&$C$9)) | D32: =IF($B32="","",SUMIFS('PO Data'!$P$2:$P$1001,'PO Data'!$B$2:$B$1001,$B32,'PO Data'!$C$2:$C$1001,IF($C$7="All","*",$C$7),'PO Data'!$E$2:$E$1001,">="&$C$8,'PO Data'!$E$2:$E$1001,"<="&$C$9)) | E32: =IF($B32="","",IFERROR(SUMIFS('PO Data'!$U$2:$U$1001,'PO Data'!$B$2:$B$1001,$B32,'PO Data'!$C$2:$C$1001,IF($C$7="All","*",$C$7),'PO Data'!$E$2:$E$1001,">="&$C$8,'PO Data'!$E$2:$E$1001,"<="&$C$9)/COUNTIFS('PO Data'!$B$2:$B$1001,$B32,'PO Data'!$C$2:$C$1001,IF($C$7="All","*",$C$7),'PO Data'!$E$2:$E$1001,">="&$C$8,'PO Data'!$E$2:$E$1001,"<="&$C$9,'PO Data'!$U$2:$U$1001,">=0"),"")) | G32: =IF($B32="","",IFERROR(AVERAGEIFS('PO Data'!$T$2:$T$1001,'PO Data'!$B$2:$B$1001,$B32,'PO Data'!$C$2:$C$1001,IF($C$7="All","*",$C$7),'PO Data'!$E$2:$E$1001,">="&$C$8,'PO Data'!$E$2:$E$1001,"<="&$C$9,'PO Data'!$T$2:$T$1001,">=0"),"")) | H32: =IF($B32="","",IFERROR(SUMIFS('PO Data'!$J$2:$J$1001,'PO Data'!$B$2:$B$1001,$B32,'PO Data'!$C$2:$C$1001,IF($C$7="All","*",$C$7),'PO Data'!$E$2:$E$1001,">="&$C$8,'PO Data'!$E$2:$E$1001,"<="&$C$9)/SUMIFS('PO Data'!$I$2:$I$1001,'PO Data'!$B$2:$B$1001,$B32,'PO Data'!$C$2:$C$1001,IF($C$7="All","*",$C$7),'PO Data'!$E$2:$E$1001,">="&$C$8,'PO Data'!$E$2:$E$1001,"<="&$C$9),"")) | I32: =IF($B32="","",IFERROR(COUNTIFS('PO Data'!$B$2:$B$1001,$B32,'PO Data'!$C$2:$C$1001,IF($C$7="All","*",$C$7),'PO Data'!$E$2:$E$1001,">="&$C$8,'PO Data'!$E$2:$E$1001,"<="&$C$9,'PO Data'!$O$2:$O$1001,"Y")/COUNTIFS('PO Data'!$B$2:$B$1001,$B32,'PO Data'!$C$2:$C$1001,IF($C$7="All","*",$C$7),'PO Data'!$E$2:$E$1001,">="&$C$8,'PO Data'!$E$2:$E$1001,"<="&$C$9),"")) | J32: =IF($B32="","",IFERROR(COUNTIFS('PO Data'!$B$2:$B$1001,$B32,'PO Data'!$C$2:$C$1001,IF($C$7="All","*",$C$7),'PO Data'!$E$2:$E$1001,">="&$C$8,'PO Data'!$E$2:$E$1001,"<="&$C$9,'PO Data'!$M$2:$M$1001,"Y")/COUNTIFS('PO Data'!$B$2:$B$1001,$B32,'PO Data'!$C$2:$C$1001,IF($C$7="All","*",$C$7),'PO Data'!$E$2:$E$1001,">="&$C$8,'PO Data'!$E$2:$E$1001,"<="&$C$9),""))
B33: =IF(INDEX(SupplierList,8)="","",INDEX(SupplierList,8)) | C33: =IF($B33="","",COUNTIFS('PO Data'!$B$2:$B$1001,$B33,'PO Data'!$C$2:$C$1001,IF($C$7="All","*",$C$7),'PO Data'!$E$2:$E$1001,">="&$C$8,'PO Data'!$E$2:$E$1001,"<="&$C$9)) | D33: =IF($B33="","",SUMIFS('PO Data'!$P$2:$P$1001,'PO Data'!$B$2:$B$1001,$B33,'PO Data'!$C$2:$C$1001,IF($C$7="All","*",$C$7),'PO Data'!$E$2:$E$1001,">="&$C$8,'PO Data'!$E$2:$E$1001,"<="&$C$9)) | E33: =IF($B33="","",IFERROR(SUMIFS('PO Data'!$U$2:$U$1001,'PO Data'!$B$2:$B$1001,$B33,'PO Data'!$C$2:$C$1001,IF($C$7="All","*",$C$7),'PO Data'!$E$2:$E$1001,">="&$C$8,'PO Data'!$E$2:$E$1001,"<="&$C$9)/COUNTIFS('PO Data'!$B$2:$B$1001,$B33,'PO Data'!$C$2:$C$1001,IF($C$7="All","*",$C$7),'PO Data'!$E$2:$E$1001,">="&$C$8,'PO Data'!$E$2:$E$1001,"<="&$C$9,'PO Data'!$U$2:$U$1001,">=0"),"")) | G33: =IF($B33="","",IFERROR(AVERAGEIFS('PO Data'!$T$2:$T$1001,'PO Data'!$B$2:$B$1001,$B33,'PO Data'!$C$2:$C$1001,IF($C$7="All","*",$C$7),'PO Data'!$E$2:$E$1001,">="&$C$8,'PO Data'!$E$2:$E$1001,"<="&$C$9,'PO Data'!$T$2:$T$1001,">=0"),"")) | H33: =IF($B33="","",IFERROR(SUMIFS('PO Data'!$J$2:$J$1001,'PO Data'!$B$2:$B$1001,$B33,'PO Data'!$C$2:$C$1001,IF($C$7="All","*",$C$7),'PO Data'!$E$2:$E$1001,">="&$C$8,'PO Data'!$E$2:$E$1001,"<="&$C$9)/SUMIFS('PO Data'!$I$2:$I$1001,'PO Data'!$B$2:$B$1001,$B33,'PO Data'!$C$2:$C$1001,IF($C$7="All","*",$C$7),'PO Data'!$E$2:$E$1001,">="&$C$8,'PO Data'!$E$2:$E$1001,"<="&$C$9),"")) | I33: =IF($B33="","",IFERROR(COUNTIFS('PO Data'!$B$2:$B$1001,$B33,'PO Data'!$C$2:$C$1001,IF($C$7="All","*",$C$7),'PO Data'!$E$2:$E$1001,">="&$C$8,'PO Data'!$E$2:$E$1001,"<="&$C$9,'PO Data'!$O$2:$O$1001,"Y")/COUNTIFS('PO Data'!$B$2:$B$1001,$B33,'PO Data'!$C$2:$C$1001,IF($C$7="All","*",$C$7),'PO Data'!$E$2:$E$1001,">="&$C$8,'PO Data'!$E$2:$E$1001,"<="&$C$9),"")) | J33: =IF($B33="","",IFERROR(COUNTIFS('PO Data'!$B$2:$B$1001,$B33,'PO Data'!$C$2:$C$1001,IF($C$7="All","*",$C$7),'PO Data'!$E$2:$E$1001,">="&$C$8,'PO Data'!$E$2:$E$1001,"<="&$C$9,'PO Data'!$M$2:$M$1001,"Y")/COUNTIFS('PO Data'!$B$2:$B$1001,$B33,'PO Data'!$C$2:$C$1001,IF($C$7="All","*",$C$7),'PO Data'!$E$2:$E$1001,">="&$C$8,'PO Data'!$E$2:$E$1001,"<="&$C$9),""))
B34: =IF(INDEX(SupplierList,9)="","",INDEX(SupplierList,9)) | C34: =IF($B34="","",COUNTIFS('PO Data'!$B$2:$B$1001,$B34,'PO Data'!$C$2:$C$1001,IF($C$7="All","*",$C$7),'PO Data'!$E$2:$E$1001,">="&$C$8,'PO Data'!$E$2:$E$1001,"<="&$C$9)) | D34: =IF($B34="","",SUMIFS('PO Data'!$P$2:$P$1001,'PO Data'!$B$2:$B$1001,$B34,'PO Data'!$C$2:$C$1001,IF($C$7="All","*",$C$7),'PO Data'!$E$2:$E$1001,">="&$C$8,'PO Data'!$E$2:$E$1001,"<="&$C$9)) | E34: =IF($B34="","",IFERROR(SUMIFS('PO Data'!$U$2:$U$1001,'PO Data'!$B$2:$B$1001,$B34,'PO Data'!$C$2:$C$1001,IF($C$7="All","*",$C$7),'PO Data'!$E$2:$E$1001,">="&$C$8,'PO Data'!$E$2:$E$1001,"<="&$C$9)/COUNTIFS('PO Data'!$B$2:$B$1001,$B34,'PO Data'!$C$2:$C$1001,IF($C$7="All","*",$C$7),'PO Data'!$E$2:$E$1001,">="&$C$8,'PO Data'!$E$2:$E$1001,"<="&$C$9,'PO Data'!$U$2:$U$1001,">=0"),"")) | G34: =IF($B34="","",IFERROR(AVERAGEIFS('PO Data'!$T$2:$T$1001,'PO Data'!$B$2:$B$1001,$B34,'PO Data'!$C$2:$C$1001,IF($C$7="All","*",$C$7),'PO Data'!$E$2:$E$1001,">="&$C$8,'PO Data'!$E$2:$E$1001,"<="&$C$9,'PO Data'!$T$2:$T$1001,">=0"),"")) | H34: =IF($B34="","",IFERROR(SUMIFS('PO Data'!$J$2:$J$1001,'PO Data'!$B$2:$B$1001,$B34,'PO Data'!$C$2:$C$1001,IF($C$7="All","*",$C$7),'PO Data'!$E$2:$E$1001,">="&$C$8,'PO Data'!$E$2:$E$1001,"<="&$C$9)/SUMIFS('PO Data'!$I$2:$I$1001,'PO Data'!$B$2:$B$1001,$B34,'PO Data'!$C$2:$C$1001,IF($C$7="All","*",$C$7),'PO Data'!$E$2:$E$1001,">="&$C$8,'PO Data'!$E$2:$E$1001,"<="&$C$9),"")) | I34: =IF($B34="","",IFERROR(COUNTIFS('PO Data'!$B$2:$B$1001,$B34,'PO Data'!$C$2:$C$1001,IF($C$7="All","*",$C$7),'PO Data'!$E$2:$E$1001,">="&$C$8,'PO Data'!$E$2:$E$1001,"<="&$C$9,'PO Data'!$O$2:$O$1001,"Y")/COUNTIFS('PO Data'!$B$2:$B$1001,$B34,'PO Data'!$C$2:$C$1001,IF($C$7="All","*",$C$7),'PO Data'!$E$2:$E$1001,">="&$C$8,'PO Data'!$E$2:$E$1001,"<="&$C$9),"")) | J34: =IF($B34="","",IFERROR(COUNTIFS('PO Data'!$B$2:$B$1001,$B34,'PO Data'!$C$2:$C$1001,IF($C$7="All","*",$C$7),'PO Data'!$E$2:$E$1001,">="&$C$8,'PO Data'!$E$2:$E$1001,"<="&$C$9,'PO Data'!$M$2:$M$1001,"Y")/COUNTIFS('PO Data'!$B$2:$B$1001,$B34,'PO Data'!$C$2:$C$1001,IF($C$7="All","*",$C$7),'PO Data'!$E$2:$E$1001,">="&$C$8,'PO Data'!$E$2:$E$1001,"<="&$C$9),""))
B35: =IF(INDEX(SupplierList,10)="","",INDEX(SupplierList,10)) | C35: =IF($B35="","",COUNTIFS('PO Data'!$B$2:$B$1001,$B35,'PO Data'!$C$2:$C$1001,IF($C$7="All","*",$C$7),'PO Data'!$E$2:$E$1001,">="&$C$8,'PO Data'!$E$2:$E$1001,"<="&$C$9)) | D35: =IF($B35="","",SUMIFS('PO Data'!$P$2:$P$1001,'PO Data'!$B$2:$B$1001,$B35,'PO Data'!$C$2:$C$1001,IF($C$7="All","*",$C$7),'PO Data'!$E$2:$E$1001,">="&$C$8,'PO Data'!$E$2:$E$1001,"<="&$C$9)) | E35: =IF($B35="","",IFERROR(SUMIFS('PO Data'!$U$2:$U$1001,'PO Data'!$B$2:$B$1001,$B35,'PO Data'!$C$2:$C$1001,IF($C$7="All","*",$C$7),'PO Data'!$E$2:$E$1001,">="&$C$8,'PO Data'!$E$2:$E$1001,"<="&$C$9)/COUNTIFS('PO Data'!$B$2:$B$1001,$B35,'PO Data'!$C$2:$C$1001,IF($C$7="All","*",$C$7),'PO Data'!$E$2:$E$1001,">="&$C$8,'PO Data'!$E$2:$E$1001,"<="&$C$9,'PO Data'!$U$2:$U$1001,">=0"),"")) | G35: =IF($B35="","",IFERROR(AVERAGEIFS('PO Data'!$T$2:$T$1001,'PO Data'!$B$2:$B$1001,$B35,'PO Data'!$C$2:$C$1001,IF($C$7="All","*",$C$7),'PO Data'!$E$2:$E$1001,">="&$C$8,'PO Data'!$E$2:$E$1001,"<="&$C$9,'PO Data'!$T$2:$T$1001,">=0"),"")) | H35: =IF($B35="","",IFERROR(SUMIFS('PO Data'!$J$2:$J$1001,'PO Data'!$B$2:$B$1001,$B35,'PO Data'!$C$2:$C$1001,IF($C$7="All","*",$C$7),'PO Data'!$E$2:$E$1001,">="&$C$8,'PO Data'!$E$2:$E$1001,"<="&$C$9)/SUMIFS('PO Data'!$I$2:$I$1001,'PO Data'!$B$2:$B$1001,$B35,'PO Data'!$C$2:$C$1001,IF($C$7="All","*",$C$7),'PO Data'!$E$2:$E$1001,">="&$C$8,'PO Data'!$E$2:$E$1001,"<="&$C$9),"")) | I35: =IF($B35="","",IFERROR(COUNTIFS('PO Data'!$B$2:$B$1001,$B35,'PO Data'!$C$2:$C$1001,IF($C$7="All","*",$C$7),'PO Data'!$E$2:$E$1001,">="&$C$8,'PO Data'!$E$2:$E$1001,"<="&$C$9,'PO Data'!$O$2:$O$1001,"Y")/COUNTIFS('PO Data'!$B$2:$B$1001,$B35,'PO Data'!$C$2:$C$1001,IF($C$7="All","*",$C$7),'PO Data'!$E$2:$E$1001,">="&$C$8,'PO Data'!$E$2:$E$1001,"<="&$C$9),"")) | J35: =IF($B35="","",IFERROR(COUNTIFS('PO Data'!$B$2:$B$1001,$B35,'PO Data'!$C$2:$C$1001,IF($C$7="All","*",$C$7),'PO Data'!$E$2:$E$1001,">="&$C$8,'PO Data'!$E$2:$E$1001,"<="&$C$9,'PO Data'!$M$2:$M$1001,"Y")/COUNTIFS('PO Data'!$B$2:$B$1001,$B35,'PO Data'!$C$2:$C$1001,IF($C$7="All","*",$C$7),'PO Data'!$E$2:$E$1001,">="&$C$8,'PO Data'!$E$2:$E$1001,"<="&$C$9),""))
B36: =IF(INDEX(SupplierList,11)="","",INDEX(SupplierList,11)) | C36: =IF($B36="","",COUNTIFS('PO Data'!$B$2:$B$1001,$B36,'PO Data'!$C$2:$C$1001,IF($C$7="All","*",$C$7),'PO Data'!$E$2:$E$1001,">="&$C$8,'PO Data'!$E$2:$E$1001,"<="&$C$9)) | D36: =IF($B36="","",SUMIFS('PO Data'!$P$2:$P$1001,'PO Data'!$B$2:$B$1001,$B36,'PO Data'!$C$2:$C$1001,IF($C$7="All","*",$C$7),'PO Data'!$E$2:$E$1001,">="&$C$8,'PO Data'!$E$2:$E$1001,"<="&$C$9)) | E36: =IF($B36="","",IFERROR(SUMIFS('PO Data'!$U$2:$U$1001,'PO Data'!$B$2:$B$1001,$B36,'PO Data'!$C$2:$C$1001,IF($C$7="All","*",$C$7),'PO Data'!$E$2:$E$1001,">="&$C$8,'PO Data'!$E$2:$E$1001,"<="&$C$9)/COUNTIFS('PO Data'!$B$2:$B$1001,$B36,'PO Data'!$C$2:$C$1001,IF($C$7="All","*",$C$7),'PO Data'!$E$2:$E$1001,">="&$C$8,'PO Data'!$E$2:$E$1001,"<="&$C$9,'PO Data'!$U$2:$U$1001,">=0"),"")) | G36: =IF($B36="","",IFERROR(AVERAGEIFS('PO Data'!$T$2:$T$1001,'PO Data'!$B$2:$B$1001,$B36,'PO Data'!$C$2:$C$1001,IF($C$7="All","*",$C$7),'PO Data'!$E$2:$E$1001,">="&$C$8,'PO Data'!$E$2:$E$1001,"<="&$C$9,'PO Data'!$T$2:$T$1001,">=0"),"")) | H36: =IF($B36="","",IFERROR(SUMIFS('PO Data'!$J$2:$J$1001,'PO Data'!$B$2:$B$1001,$B36,'PO Data'!$C$2:$C$1001,IF($C$7="All","*",$C$7),'PO Data'!$E$2:$E$1001,">="&$C$8,'PO Data'!$E$2:$E$1001,"<="&$C$9)/SUMIFS('PO Data'!$I$2:$I$1001,'PO Data'!$B$2:$B$1001,$B36,'PO Data'!$C$2:$C$1001,IF($C$7="All","*",$C$7),'PO Data'!$E$2:$E$1001,">="&$C$8,'PO Data'!$E$2:$E$1001,"<="&$C$9),"")) | I36: =IF($B36="","",IFERROR(COUNTIFS('PO Data'!$B$2:$B$1001,$B36,'PO Data'!$C$2:$C$1001,IF($C$7="All","*",$C$7),'PO Data'!$E$2:$E$1001,">="&$C$8,'PO Data'!$E$2:$E$1001,"<="&$C$9,'PO Data'!$O$2:$O$1001,"Y")/COUNTIFS('PO Data'!$B$2:$B$1001,$B36,'PO Data'!$C$2:$C$1001,IF($C$7="All","*",$C$7),'PO Data'!$E$2:$E$1001,">="&$C$8,'PO Data'!$E$2:$E$1001,"<="&$C$9),"")) | J36: =IF($B36="","",IFERROR(COUNTIFS('PO Data'!$B$2:$B$1001,$B36,'PO Data'!$C$2:$C$1001,IF($C$7="All","*",$C$7),'PO Data'!$E$2:$E$1001,">="&$C$8,'PO Data'!$E$2:$E$1001,"<="&$C$9,'PO Data'!$M$2:$M$1001,"Y")/COUNTIFS('PO Data'!$B$2:$B$1001,$B36,'PO Data'!$C$2:$C$1001,IF($C$7="All","*",$C$7),'PO Data'!$E$2:$E$1001,">="&$C$8,'PO Data'!$E$2:$E$1001,"<="&$C$9),""))
B37: =IF(INDEX(SupplierList,12)="","",INDEX(SupplierList,12)) | C37: =IF($B37="","",COUNTIFS('PO Data'!$B$2:$B$1001,$B37,'PO Data'!$C$2:$C$1001,IF($C$7="All","*",$C$7),'PO Data'!$E$2:$E$1001,">="&$C$8,'PO Data'!$E$2:$E$1001,"<="&$C$9)) | D37: =IF($B37="","",SUMIFS('PO Data'!$P$2:$P$1001,'PO Data'!$B$2:$B$1001,$B37,'PO Data'!$C$2:$C$1001,IF($C$7="All","*",$C$7),'PO Data'!$E$2:$E$1001,">="&$C$8,'PO Data'!$E$2:$E$1001,"<="&$C$9)) | E37: =IF($B37="","",IFERROR(SUMIFS('PO Data'!$U$2:$U$1001,'PO Data'!$B$2:$B$1001,$B37,'PO Data'!$C$2:$C$1001,IF($C$7="All","*",$C$7),'PO Data'!$E$2:$E$1001,">="&$C$8,'PO Data'!$E$2:$E$1001,"<="&$C$9)/COUNTIFS('PO Data'!$B$2:$B$1001,$B37,'PO Data'!$C$2:$C$1001,IF($C$7="All","*",$C$7),'PO Data'!$E$2:$E$1001,">="&$C$8,'PO Data'!$E$2:$E$1001,"<="&$C$9,'PO Data'!$U$2:$U$1001,">=0"),"")) | G37: =IF($B37="","",IFERROR(AVERAGEIFS('PO Data'!$T$2:$T$1001,'PO Data'!$B$2:$B$1001,$B37,'PO Data'!$C$2:$C$1001,IF($C$7="All","*",$C$7),'PO Data'!$E$2:$E$1001,">="&$C$8,'PO Data'!$E$2:$E$1001,"<="&$C$9,'PO Data'!$T$2:$T$1001,">=0"),"")) | H37: =IF($B37="","",IFERROR(SUMIFS('PO Data'!$J$2:$J$1001,'PO Data'!$B$2:$B$1001,$B37,'PO Data'!$C$2:$C$1001,IF($C$7="All","*",$C$7),'PO Data'!$E$2:$E$1001,">="&$C$8,'PO Data'!$E$2:$E$1001,"<="&$C$9)/SUMIFS('PO Data'!$I$2:$I$1001,'PO Data'!$B$2:$B$1001,$B37,'PO Data'!$C$2:$C$1001,IF($C$7="All","*",$C$7),'PO Data'!$E$2:$E$1001,">="&$C$8,'PO Data'!$E$2:$E$1001,"<="&$C$9),"")) | I37: =IF($B37="","",IFERROR(COUNTIFS('PO Data'!$B$2:$B$1001,$B37,'PO Data'!$C$2:$C$1001,IF($C$7="All","*",$C$7),'PO Data'!$E$2:$E$1001,">="&$C$8,'PO Data'!$E$2:$E$1001,"<="&$C$9,'PO Data'!$O$2:$O$1001,"Y")/COUNTIFS('PO Data'!$B$2:$B$1001,$B37,'PO Data'!$C$2:$C$1001,IF($C$7="All","*",$C$7),'PO Data'!$E$2:$E$1001,">="&$C$8,'PO Data'!$E$2:$E$1001,"<="&$C$9),"")) | J37: =IF($B37="","",IFERROR(COUNTIFS('PO Data'!$B$2:$B$1001,$B37,'PO Data'!$C$2:$C$1001,IF($C$7="All","*",$C$7),'PO Data'!$E$2:$E$1001,">="&$C$8,'PO Data'!$E$2:$E$1001,"<="&$C$9,'PO Data'!$M$2:$M$1001,"Y")/COUNTIFS('PO Data'!$B$2:$B$1001,$B37,'PO Data'!$C$2:$C$1001,IF($C$7="All","*",$C$7),'PO Data'!$E$2:$E$1001,">="&$C$8,'PO Data'!$E$2:$E$1001,"<="&$C$9),""))
B38: Red = worse than the target above. Filtered by category and dates; the supplier filter doesn't apply here.
B40: MONTHLY TREND
B41: Month | C41: POs | D41: Spend | E41: On-time %
B42: =DATE(YEAR($C$8),MONTH($C$8)+0,1) | C42: =COUNTIFS('PO Data'!$B$2:$B$1001,IF($C$6="All","*",$C$6),'PO Data'!$C$2:$C$1001,IF($C$7="All","*",$C$7),'PO Data'!$V$2:$V$1001,$B42) | D42: =SUMIFS('PO Data'!$P$2:$P$1001,'PO Data'!$B$2:$B$1001,IF($C$6="All","*",$C$6),'PO Data'!$C$2:$C$1001,IF($C$7="All","*",$C$7),'PO Data'!$V$2:$V$1001,$B42) | E42: =IFERROR(SUMIFS('PO Data'!$U$2:$U$1001,'PO Data'!$B$2:$B$1001,IF($C$6="All","*",$C$6),'PO Data'!$C$2:$C$1001,IF($C$7="All","*",$C$7),'PO Data'!$V$2:$V$1001,$B42)/COUNTIFS('PO Data'!$B$2:$B$1001,IF($C$6="All","*",$C$6),'PO Data'!$C$2:$C$1001,IF($C$7="All","*",$C$7),'PO Data'!$V$2:$V$1001,$B42,'PO Data'!$U$2:$U$1001,">=0"),NA())
B43: =DATE(YEAR($C$8),MONTH($C$8)+1,1) | C43: =COUNTIFS('PO Data'!$B$2:$B$1001,IF($C$6="All","*",$C$6),'PO Data'!$C$2:$C$1001,IF($C$7="All","*",$C$7),'PO Data'!$V$2:$V$1001,$B43) | D43: =SUMIFS('PO Data'!$P$2:$P$1001,'PO Data'!$B$2:$B$1001,IF($C$6="All","*",$C$6),'PO Data'!$C$2:$C$1001,IF($C$7="All","*",$C$7),'PO Data'!$V$2:$V$1001,$B43) | E43: =IFERROR(SUMIFS('PO Data'!$U$2:$U$1001,'PO Data'!$B$2:$B$1001,IF($C$6="All","*",$C$6),'PO Data'!$C$2:$C$1001,IF($C$7="All","*",$C$7),'PO Data'!$V$2:$V$1001,$B43)/COUNTIFS('PO Data'!$B$2:$B$1001,IF($C$6="All","*",$C$6),'PO Data'!$C$2:$C$1001,IF($C$7="All","*",$C$7),'PO Data'!$V$2:$V$1001,$B43,'PO Data'!$U$2:$U$1001,">=0"),NA())
B44: =DATE(YEAR($C$8),MONTH($C$8)+2,1) | C44: =COUNTIFS('PO Data'!$B$2:$B$1001,IF($C$6="All","*",$C$6),'PO Data'!$C$2:$C$1001,IF($C$7="All","*",$C$7),'PO Data'!$V$2:$V$1001,$B44) | D44: =SUMIFS('PO Data'!$P$2:$P$1001,'PO Data'!$B$2:$B$1001,IF($C$6="All","*",$C$6),'PO Data'!$C$2:$C$1001,IF($C$7="All","*",$C$7),'PO Data'!$V$2:$V$1001,$B44) | E44: =IFERROR(SUMIFS('PO Data'!$U$2:$U$1001,'PO Data'!$B$2:$B$1001,IF($C$6="All","*",$C$6),'PO Data'!$C$2:$C$1001,IF($C$7="All","*",$C$7),'PO Data'!$V$2:$V$1001,$B44)/COUNTIFS('PO Data'!$B$2:$B$1001,IF($C$6="All","*",$C$6),'PO Data'!$C$2:$C$1001,IF($C$7="All","*",$C$7),'PO Data'!$V$2:$V$1001,$B44,'PO Data'!$U$2:$U$1001,">=0"),NA())
B45: =DATE(YEAR($C$8),MONTH($C$8)+3,1) | C45: =COUNTIFS('PO Data'!$B$2:$B$1001,IF($C$6="All","*",$C$6),'PO Data'!$C$2:$C$1001,IF($C$7="All","*",$C$7),'PO Data'!$V$2:$V$1001,$B45) | D45: =SUMIFS('PO Data'!$P$2:$P$1001,'PO Data'!$B$2:$B$1001,IF($C$6="All","*",$C$6),'PO Data'!$C$2:$C$1001,IF($C$7="All","*",$C$7),'PO Data'!$V$2:$V$1001,$B45) | E45: =IFERROR(SUMIFS('PO Data'!$U$2:$U$1001,'PO Data'!$B$2:$B$1001,IF($C$6="All","*",$C$6),'PO Data'!$C$2:$C$1001,IF($C$7="All","*",$C$7),'PO Data'!$V$2:$V$1001,$B45)/COUNTIFS('PO Data'!$B$2:$B$1001,IF($C$6="All","*",$C$6),'PO Data'!$C$2:$C$1001,IF($C$7="All","*",$C$7),'PO Data'!$V$2:$V$1001,$B45,'PO Data'!$U$2:$U$1001,">=0"),NA())
...

Sheet Read Me
B2: Procurement KPI Dashboard: how to use it
B4: 1. Replace the sample data
B5: Go to PO Data. Delete the sample rows (select rows 2 down to the last row → right-click → Delete) and paste your own POs into the blue columns, one row per purchase order.
B6: Grey-green columns (Total Cost to Month) calculate themselves. Leave Delivery Date empty for POs not yet delivered.
B7: Baseline Unit Price = budget, last year's price or list price, whatever you measure savings against.
B8: On Contract, Managed by Procurement and Emergency take Y or N.
B10: 2. Add your suppliers and categories
B11: Lists sheet: type them under Suppliers and Categories. The drop-downs, filters and the supplier scorecard (up to 12 suppliers) update automatically.
B13: 3. Use the dashboard
B14: Yellow cells are settings. Pick a supplier and category (or All) and set the date range; every KPI recalculates.
B15: Set your own targets in the Target column. Status and the red flags in the scorecard compare against them.
B16: The formulas cover 1,000 POs (rows 2–1001 of PO Data).
... B23: Want this built on your own ERP exports, refreshed in one click? NonStopExcel builds fixed-price Excel dashboards: nonstopexcel.com

Sheet Lists
A1: Suppliers | B1: Categories | C1: Yes/No | E1: Add new suppliers or categories at the bottom of these lists (up to row 50); the drop-downs and scorecard pick them up. | G1: Supplier filter | H1: Category filter
A2: Adria Packaging | B2: Raw Materials | C2: Y | G2: All | H2: All
A3: Bluewave Logistics | B3: Packaging | C3: N | G3: =IF(A2="","",A2) | H3: =IF(B2="","",B2)
A4: Danubia Chemicals | B4: MRO | G4: =IF(A3="","",A3) | H4: =IF(B3="","",B3)
A5: Kestrel Office Supply | B5: Logistics | G5: =IF(A4="","",A4) | H5: =IF(B4="","",B4)
A6: Nordline Industrial | B6: Office | G6: =IF(A5="","",A5) | H6: =IF(B5="","",B5)
A7: Vektor Components | B7: IT | G7: =IF(A6="","",A6) | H7: =IF(B6="","",B6)
G8: =IF(A7="","",A7) | H8: =IF(B7="","",B7)
G9: =IF(A8="","",A8) | H9: =IF(B8="","",B8)
G10: =IF(A9="","",A9) | H10: =IF(B9="","",B9)
G11: =IF(A10="","",A10) | H11: =IF(B10="","",B10)
G12: =IF(A11="","",A11) | H12: =IF(B11="","",B11)
G13: =IF(A12="","",A12) | H13: =IF(B12="","",B12)
G14: =IF(A13="","",A13) | H14: =IF(B13="","",B13)
G15: =IF(A14="","",A14) | H15: =IF(B14="","",B14)
G16: =IF(A15="","",A15) | H16: =IF(B15="","",B15)
G17: =IF(A16="","",A16) | H17: =IF(B16="","",B16)
G18: =IF(A17="","",A17) | H18: =IF(B17="","",B17)
G19: =IF(A18="","",A18) | H19: =IF(B18="","",B18)
... G51: =IF(A50="","",A50) | H51: =IF(B50="","",B50)

Sheet PO Data
A1: PO Number | B1: Supplier | C1: Category | D1: Requisition Date | E1: PO Date | F1: Promised Date | G1: Delivery Date | H1: Qty Ordered | I1: Qty Received | J1: Qty Rejected | K1: Unit Price | L1: Baseline Unit Price | M1: On Contract | N1: Managed by Procurement | O1: Emergency | P1: Total Cost | Q1: Baseline Cost | R1: Savings | S1: PO Cycle Days | T1: Lead Time Days | U1: On Time | V1: Month
A2: PO-26001 | B2: Vektor Components | C2: Raw Materials | D2: 45927 | E2: 45931 | F2: 45943 | G2: 45943 | H2: 1585 | I2: 1585 | J2: 6 | K2: 30.21 | L2: 31.7 | M2: Y | N2: Y | O2: N | P2: =H2*K2 | Q2: =H2*L2 | R2: =Q2-P2 | S2: =E2-D2 | T2: =IF(G2="","",G2-E2) | U2: =IF(G2="","",IF(G2<=F2,1,0)) | V2: =DATE(YEAR(E2),MONTH(E2),1)
A3: PO-26002 | B3: Nordline Industrial | C3: Raw Materials | D3: 45929 | E3: 45933 | F3: 45947 | G3: 45947 | H3: 501 | I3: 501 | J3: 5 | K3: 8.28 | L3: 8.78 | M3: Y | N3: Y | O3: N | P3: =H3*K3 | Q3: =H3*L3 | R3: =Q3-P3 | S3: =E3-D3 | T3: =IF(G3="","",G3-E3) | U3: =IF(G3="","",IF(G3<=F3,1,0)) | V3: =DATE(YEAR(E3),MONTH(E3),1)
A4: PO-26003 | B4: Vektor Components | C4: IT | D4: 45930 | E4: 45937 | F4: 45954 | G4: 45957 | H4: 17 | I4: 17 | J4: 1 | K4: 860.08 | L4: 871.51 | M4: Y | N4: Y | O4: N | P4: =H4*K4 | Q4: =H4*L4 | R4: =Q4-P4 | S4: =E4-D4 | T4: =IF(G4="","",G4-E4) | U4: =IF(G4="","",IF(G4<=F4,1,0)) | V4: =DATE(YEAR(E4),MONTH(E4),1)
A5: PO-26004 | B5: Nordline Industrial | C5: Raw Materials | D5: 45930 | E5: 45938 | F5: 45944 | G5: 45944 | H5: 1492 | I5: 1492 | J5: 1 | K5: 27.52 | L5: 29.9 | M5: Y | N5: Y | O5: N | P5: =H5*K5 | Q5: =H5*L5 | R5: =Q5-P5 | S5: =E5-D5 | T5: =IF(G5="","",G5-E5) | U5: =IF(G5="","",IF(G5<=F5,1,0)) | V5: =DATE(YEAR(E5),MONTH(E5),1)
A6: PO-26005 | B6: Nordline Industrial | C6: MRO | D6: 45932 | E6: 45941 | F6: 45950 | G6: 45958 | H6: 11 | I6: 11 | J6: 0 | K6: 98.99 | L6: 100.15 | M6: Y | N6: Y | O6: N | P6: =H6*K6 | Q6: =H6*L6 | R6: =Q6-P6 | S6: =E6-D6 | T6: =IF(G6="","",G6-E6) | U6: =IF(G6="","",IF(G6<=F6,1,0)) | V6: =DATE(YEAR(E6),MONTH(E6),1)
A7: PO-26006 | B7: Vektor Components | C7: MRO | D7: 45936 | E7: 45942 | F7: 45949 | G7: 45947 | H7: 48 | I7: 48 | J7: 1 | K7: 54.29 | L7: 55.59 | M7: Y | N7: Y | O7: N | P7: =H7*K7 | Q7: =H7*L7 | R7: =Q7-P7 | S7: =E7-D7 | T7: =IF(G7="","",G7-E7) | U7: =IF(G7="","",IF(G7<=F7,1,0)) | V7: =DATE(YEAR(E7),MONTH(E7),1)
A8: PO-26007 | B8: Danubia Chemicals | C8: Raw Materials | D8: 45937 | E8: 45945 | F8: 45957 | G8: 45956 | H8: 1856 | I8: 1856 | J8: 9 | K8: 33.34 | L8: 33.1 | M8: N | N8: N | O8: N | P8: =H8*K8 | Q8: =H8*L8 | R8: =Q8-P8 | S8: =E8-D8 | T8: =IF(G8="","",G8-E8) | U8: =IF(G8="","",IF(G8<=F8,1,0)) | V8: =DATE(YEAR(E8),MONTH(E8),1)
A9: PO-26008 | B9: Vektor Components | C9: Raw Materials | D9: 45944 | E9: 45948 | F9: 45963 | G9: 45971 | H9: 1276 | I9: 1276 | J9: 8 | K9: 20.95 | L9: 20.06 | M9: N | N9: N | O9: N | P9: =H9*K9 | Q9: =H9*L9 | R9: =Q9-P9 | S9: =E9-D9 | T9: =IF(G9="","",G9-E9) | U9: =IF(G9="","",IF(G9<=F9,1,0)) | V9: =DATE(YEAR(E9),MONTH(E9),1)
A10: PO-26009 | B10: Vektor Components | C10: IT | D10: 45949 | E10: 45951 | F10: 45972 | G10: 45976 | H10: 8 | I10: 8 | J10: 0 | K10: 779.86 | L10: 820.03 | M10: Y | N10: Y | O10: N | P10: =H10*K10 | Q10: =H10*L10 | R10: =Q10-P10 | S10: =E10-D10 | T10: =IF(G10="","",G10-E10) | U10: =IF(G10="","",IF(G10<=F10,1,0)) | V10: =DATE(YEAR(E10),MONTH(E10),1)
A11: PO-26010 | B11: Adria Packaging | C11: Packaging | D11: 45946 | E11: 45953 | F11: 45960 | G11: 45958 | H11: 4939 | I11: 4939 | J11: 3 | K11: 1.8 | L11: 1.87 | M11: Y | N11: Y | O11: N | P11: =H11*K11 | Q11: =H11*L11 | R11: =Q11-P11 | S11: =E11-D11 | T11: =IF(G11="","",G11-E11) | U11: =IF(G11="","",IF(G11<=F11,1,0)) | V11: =DATE(YEAR(E11),MONTH(E11),1)
A12: PO-26011 | B12: Adria Packaging | C12: Packaging | D12: 45947 | E12: 45955 | F12: 45971 | G12: 45969 | H12: 3480 | I12: 3480 | J12: 3 | K12: 2.62 | L12: 2.79 | M12: Y | N12: Y | O12: N | P12: =H12*K12 | Q12: =H12*L12 | R12: =Q12-P12 | S12: =E12-D12 | T12: =IF(G12="","",G12-E12) | U12: =IF(G12="","",IF(G12<=F12,1,0)) | V12: =DATE(YEAR(E12),MONTH(E12),1)
A13: PO-26012 | B13: Kestrel Office Supply | C13: IT | D13: 45950 | E13: 45958 | F13: 45970 | G13: 45970 | H13: 3 | I13: 3 | J13: 0 | K13: 324.16 | L13: 328.88 | M13: Y | N13: Y | O13: N | P13: =H13*K13 | Q13: =H13*L13 | R13: =Q13-P13 | S13: =E13-D13 | T13: =IF(G13="","",G13-E13) | U13: =IF(G13="","",IF(G13<=F13,1,0)) | V13: =DATE(YEAR(E13),MONTH(E13),1)
... A155: PO-26154 | B155: Nordline Industrial | C155: Raw Materials | D155: 46274 | E155: 46279 | F155: 46289 | G155: 46289 | H155: 479 | I155: 479 | J155: 6 | K155: 14.24 | L155: 14.56 | M155: Y | N155: Y | O155: N | P155: =H155*K155 | Q155: =H155*L155 | R155: =Q155-P155 | S155: =E155-D155 | T155: =IF(G155="","",G155-E155) | U155: =IF(G155="","",IF(G155<=F155,1,0)) | V155: =DATE(YEAR(E155),MONTH(E155),1)
A156: PO-26155 | B156: Danubia Chemicals | C156: Raw Materials | D156: 46280 | E156: 46282 | F156: 46302 | H156: 832 | I156: 0 | J156: 0 | K156: 35.81 | L156: 38.85 | M156: Y | N156: Y | O156: N | P156: =H156*K156 | Q156: =H156*L156 | R156: =Q156-P156 | S156: =E156-D156 | T156: =IF(G156="","",G156-E156) | U156: =IF(G156="","",IF(G156<=F156,1,0)) | V156: =DATE(YEAR(E156),MONTH(E156),1)
A157: PO-26156 | B157: Danubia Chemicals | C157: Raw Materials | D157: 46282 | E157: 46285 | F157: 46299 | H157: 1528 | I157: 0 | J157: 0 | K157: 31.16 | L157: 33.25 | M157: Y | N157: Y | O157: N | P157: =H157*K157 | Q157: =H157*L157 | R157: =Q157-P157 | S157: =E157-D157 | T157: =IF(G157="","",G157-E157) | U157: =IF(G157="","",IF(G157<=F157,1,0)) | V157: =DATE(YEAR(E157),MONTH(E157),1)
A158: PO-26157 | B158: Nordline Industrial | C158: Raw Materials | D158: 46278 | E158: 46285 | F158: 46296 | G158: 46295 | H158: 840 | I158: 840 | J158: 9 | K158: 23.58 | L158: 23.84 | M158: Y | N158: Y | O158: N | P158: =H158*K158 | Q158: =H158*L158 | R158: =Q158-P158 | S158: =E158-D158 | T158: =IF(G158="","",G158-E158) | U158: =IF(G158="","",IF(G158<=F158,1,0)) | V158: =DATE(YEAR(E158),MONTH(E158),1)
A159: PO-26158 | B159: Kestrel Office Supply | C159: Office | D159: 46287 | E159: 46288 | F159: 46304 | H159: 20 | I159: 0 | J159: 0 | K159: 11.37 | L159: 11.83 | M159: Y | N159: Y | O159: N | P159: =H159*K159 | Q159: =H159*L159 | R159: =Q159-P159 | S159: =E159-D159 | T159: =IF(G159="","",G159-E159) | U159: =IF(G159="","",IF(G159<=F159,1,0)) | V159: =DATE(YEAR(E159),MONTH(E159),1)
A160: PO-26159 | B160: Vektor Components | C160: MRO | D160: 46283 | E160: 46291 | F160: 46298 | H160: 8 | I160: 0 | J160: 0 | K160: 79.35 | L160: 85.17 | M160: Y | N160: Y | O160: N | P160: =H160*K160 | Q160: =H160*L160 | R160: =Q160-P160 | S160: =E160-D160 | T160: =IF(G160="","",G160-E160) | U160: =IF(G160="","",IF(G160<=F160,1,0)) | V160: =DATE(YEAR(E160),MONTH(E160),1)
A161: PO-26160 | B161: Kestrel Office Supply | C161: IT | D161: 46290 | E161: 46294 | F161: 46301 | H161: 3 | I161: 0 | J161: 0 | K161: 408.49 | L161: 452.74 | M161: Y | N161: Y | O161: N | P161: =H161*K161 | Q161: =H161*L161 | R161: =Q161-P161 | S161: =E161-D161 | T161: =IF(G161="","",G161-E161) | U161: =IF(G161="","",IF(G161<=F161,1,0)) | V161: =DATE(YEAR(E161),MONTH(E161),1)
